BEGIN:VCALENDAR
VERSION:2.0
PRODID:-//Klášter Božího Milosrdenství - ECPv6.15.13//NONSGML v1.0//EN
CALSCALE:GREGORIAN
METHOD:PUBLISH
X-ORIGINAL-URL:https://www.klaster.cz
X-WR-CALDESC:Akce na Klášter Božího Milosrdenství
REFRESH-INTERVAL;VALUE=DURATION:PT1H
X-Robots-Tag:noindex
X-PUBLISHED-TTL:PT1H
BEGIN:VTIMEZONE
TZID:Europe/Prague
BEGIN:DAYLIGHT
TZOFFSETFROM:+0100
TZOFFSETTO:+0200
TZNAME:CEST
DTSTART:20240331T010000
END:DAYLIGHT
BEGIN:STANDARD
TZOFFSETFROM:+0200
TZOFFSETTO:+0100
TZNAME:CET
DTSTART:20241027T010000
END:STANDARD
BEGIN:DAYLIGHT
TZOFFSETFROM:+0100
TZOFFSETTO:+0200
TZNAME:CEST
DTSTART:20250330T010000
END:DAYLIGHT
BEGIN:STANDARD
TZOFFSETFROM:+0200
TZOFFSETTO:+0100
TZNAME:CET
DTSTART:20251026T010000
END:STANDARD
BEGIN:DAYLIGHT
TZOFFSETFROM:+0100
TZOFFSETTO:+0200
TZNAME:CEST
DTSTART:20260329T010000
END:DAYLIGHT
BEGIN:STANDARD
TZOFFSETFROM:+0200
TZOFFSETTO:+0100
TZNAME:CET
DTSTART:20261025T010000
END:STANDARD
END:VTIMEZONE
BEGIN:VEVENT
DTSTART;TZID=Europe/Prague:20250906T083000
DTEND;TZID=Europe/Prague:20250906T144653
DTSTAMP:20260426T052121
CREATED:20250830T185414Z
LAST-MODIFIED:20250906T144653Z
UID:8277-1757147400-1757170013@www.klaster.cz
SUMMARY:První sobota v měsíci
DESCRIPTION:
URL:https://www.klaster.cz/event/prvni-sobota-v-mesici-2
LOCATION:Dobrá Voda
END:VEVENT
BEGIN:VEVENT
DTSTART;TZID=Europe/Prague:20250907T063000
DTEND;TZID=Europe/Prague:20250907T063000
DTSTAMP:20260426T052121
CREATED:20250817T155233Z
LAST-MODIFIED:20250817T155653Z
UID:8232-1757226600-1757226600@www.klaster.cz
SUMMARY:Pěší pouť z Nakolic do Hoheneich
DESCRIPTION:Mše svatá „Nakolická“ v Hoheneich od 11:00 hodin.
URL:https://www.klaster.cz/event/pesi-pout-z-nakolice-do-hoheneich
LOCATION:Nakolice
END:VEVENT
BEGIN:VEVENT
DTSTART;TZID=Europe/Prague:20250913T130000
DTEND;TZID=Europe/Prague:20250913T130000
DTSTAMP:20260426T052121
CREATED:20250828T151344Z
LAST-MODIFIED:20250828T151354Z
UID:8267-1757768400-1757768400@www.klaster.cz
SUMMARY:Pěší pouť z T. Svinů na D. Vodu
DESCRIPTION:
URL:https://www.klaster.cz/event/pesi-pout-z-t-svinu-na-d-vodu
LOCATION:Trhové Sviny – kostel Nanebevzetí Panny Marie
END:VEVENT
BEGIN:VEVENT
DTSTART;TZID=Europe/Prague:20250913T170000
DTEND;TZID=Europe/Prague:20250913T170000
DTSTAMP:20260426T052121
CREATED:20250816T085947Z
LAST-MODIFIED:20250816T085955Z
UID:8229-1757782800-1757782800@www.klaster.cz
SUMMARY:Fatimský den
DESCRIPTION:
URL:https://www.klaster.cz/event/fatimsky-den-3
LOCATION:Dobrá Voda
END:VEVENT
BEGIN:VEVENT
DTSTART;TZID=Europe/Prague:20250914T093000
DTEND;TZID=Europe/Prague:20250914T093000
DTSTAMP:20260426T052121
CREATED:20250826T095030Z
LAST-MODIFIED:20250826T095037Z
UID:8263-1757842200-1757842200@www.klaster.cz
SUMMARY:Klášterní slavnosti
DESCRIPTION:
URL:https://www.klaster.cz/event/klasterni-slavnosti
LOCATION:Nové Hrady – klášter
END:VEVENT
BEGIN:VEVENT
DTSTART;TZID=Europe/Prague:20250920T140000
DTEND;TZID=Europe/Prague:20250920T140000
DTSTAMP:20260426T052121
CREATED:20250914T121611Z
LAST-MODIFIED:20250914T121622Z
UID:8302-1758376800-1758376800@www.klaster.cz
SUMMARY:Pouť na Krčín
DESCRIPTION:14:00 pěší pouť z Údolí na Krčín  \nMše svatá od 15:30 hodin 
URL:https://www.klaster.cz/event/pout-na-krcin
LOCATION:Krčín
END:VEVENT
BEGIN:VEVENT
DTSTART;TZID=Europe/Prague:20250925T193000
DTEND;TZID=Europe/Prague:20250925T193000
DTSTAMP:20260426T052121
CREATED:20250917T125209Z
LAST-MODIFIED:20250917T125214Z
UID:8307-1758828600-1758828600@www.klaster.cz
SUMMARY:Pouť do Medžugorje - odjezd
DESCRIPTION:18:30 mše svatá
URL:https://www.klaster.cz/event/pout-do-medzugorje-odjezd
LOCATION:Nové Hrady
END:VEVENT
END:VCALENDAR