BEGIN:VCALENDAR
VERSION:2.0
PRODID:-//Klášter Božího Milosrdenství - ECPv6.15.13//NONSGML v1.0//EN
CALSCALE:GREGORIAN
METHOD:PUBLISH
X-ORIGINAL-URL:https://www.klaster.cz
X-WR-CALDESC:Akce na Klášter Božího Milosrdenství
REFRESH-INTERVAL;VALUE=DURATION:PT1H
X-Robots-Tag:noindex
X-PUBLISHED-TTL:PT1H
BEGIN:VTIMEZONE
TZID:Europe/Prague
BEGIN:DAYLIGHT
TZOFFSETFROM:+0100
TZOFFSETTO:+0200
TZNAME:CEST
DTSTART:20240331T010000
END:DAYLIGHT
BEGIN:STANDARD
TZOFFSETFROM:+0200
TZOFFSETTO:+0100
TZNAME:CET
DTSTART:20241027T010000
END:STANDARD
BEGIN:DAYLIGHT
TZOFFSETFROM:+0100
TZOFFSETTO:+0200
TZNAME:CEST
DTSTART:20250330T010000
END:DAYLIGHT
BEGIN:STANDARD
TZOFFSETFROM:+0200
TZOFFSETTO:+0100
TZNAME:CET
DTSTART:20251026T010000
END:STANDARD
BEGIN:DAYLIGHT
TZOFFSETFROM:+0100
TZOFFSETTO:+0200
TZNAME:CEST
DTSTART:20260329T010000
END:DAYLIGHT
BEGIN:STANDARD
TZOFFSETFROM:+0200
TZOFFSETTO:+0100
TZNAME:CET
DTSTART:20261025T010000
END:STANDARD
END:VTIMEZONE
BEGIN:VEVENT
DTSTART;TZID=Europe/Prague:20251101T110000
DTEND;TZID=Europe/Prague:20251101T110000
DTSTAMP:20260426T021146
CREATED:20251027T100317Z
LAST-MODIFIED:20251027T100322Z
UID:8393-1761994800-1761994800@www.klaster.cz
SUMMARY:Žehnání myslivcům a myslivosti
DESCRIPTION:v kostele sv. Petra a Pavla
URL:https://www.klaster.cz/event/zehnani-myslivcum-a-myslivosti
LOCATION:Nové Hrady
END:VEVENT
BEGIN:VEVENT
DTSTART;TZID=Europe/Prague:20251102T110000
DTEND;TZID=Europe/Prague:20251102T110000
DTSTAMP:20260426T021146
CREATED:20251027T095341Z
LAST-MODIFIED:20251101T193017Z
UID:8386-1762081200-1762081200@www.klaster.cz
SUMMARY:Žehnání hrobů - po mši svaté
DESCRIPTION:
URL:https://www.klaster.cz/event/zehnani-hrobu-po-msi-svate
LOCATION:Horní Stropnice
END:VEVENT
BEGIN:VEVENT
DTSTART;TZID=Europe/Prague:20251102T103000
DTEND;TZID=Europe/Prague:20251102T103000
DTSTAMP:20260426T021146
CREATED:20251027T095450Z
LAST-MODIFIED:20251101T192918Z
UID:8389-1762079400-1762079400@www.klaster.cz
SUMMARY:Žehnání hrobů - po mši svaté
DESCRIPTION: 
URL:https://www.klaster.cz/event/zehnani-hrobu-po-msi-svate-2
LOCATION:Rychnov
END:VEVENT
BEGIN:VEVENT
DTSTART;TZID=Europe/Prague:20251102T083000
DTEND;TZID=Europe/Prague:20251102T083000
DTSTAMP:20260426T021146
CREATED:20251027T095604Z
LAST-MODIFIED:20251101T192744Z
UID:8391-1762072200-1762072200@www.klaster.cz
SUMMARY:Žehnání hrobů - po mši svaté
DESCRIPTION:
URL:https://www.klaster.cz/event/zehnani-hrobu-po-msi-svate-3
LOCATION:Dobrá Voda
END:VEVENT
BEGIN:VEVENT
DTSTART;TZID=Europe/Prague:20251102T120000
DTEND;TZID=Europe/Prague:20251102T120000
DTSTAMP:20260426T021146
CREATED:20251026T171905Z
LAST-MODIFIED:20251026T171928Z
UID:8376-1762084800-1762084800@www.klaster.cz
SUMMARY:Žehnání hrobů
DESCRIPTION:
URL:https://www.klaster.cz/event/zehnani-hrobu
LOCATION:Slavče
END:VEVENT
BEGIN:VEVENT
DTSTART;TZID=Europe/Prague:20251102T150000
DTEND;TZID=Europe/Prague:20251102T150000
DTSTAMP:20260426T021146
CREATED:20251026T172137Z
LAST-MODIFIED:20251026T172145Z
UID:8379-1762095600-1762095600@www.klaster.cz
SUMMARY:Žehnání hrobů
DESCRIPTION:
URL:https://www.klaster.cz/event/zehnani-hrobu-2
LOCATION:Trhové Sviny
END:VEVENT
BEGIN:VEVENT
DTSTART;TZID=Europe/Prague:20251102T150000
DTEND;TZID=Europe/Prague:20251102T150000
DTSTAMP:20260426T021146
CREATED:20251027T095122Z
LAST-MODIFIED:20251027T095839Z
UID:8384-1762095600-1762095600@www.klaster.cz
SUMMARY:Žehnání hrobů
DESCRIPTION:
URL:https://www.klaster.cz/event/zehnani-hrobu-4
LOCATION:Nové Hrady
END:VEVENT
BEGIN:VEVENT
DTSTART;TZID=Europe/Prague:20251102T163000
DTEND;TZID=Europe/Prague:20251102T163000
DTSTAMP:20260426T021146
CREATED:20251026T172349Z
LAST-MODIFIED:20251026T172356Z
UID:8381-1762101000-1762101000@www.klaster.cz
SUMMARY:Žehnání hrobů
DESCRIPTION:
URL:https://www.klaster.cz/event/zehnani-hrobu-3
LOCATION:Olešnice
END:VEVENT
END:VCALENDAR