BEGIN:VCALENDAR
VERSION:2.0
PRODID:-//Klášter Božího Milosrdenství - ECPv6.15.13//NONSGML v1.0//EN
CALSCALE:GREGORIAN
METHOD:PUBLISH
X-ORIGINAL-URL:https://www.klaster.cz
X-WR-CALDESC:Akce na Klášter Božího Milosrdenství
REFRESH-INTERVAL;VALUE=DURATION:PT1H
X-Robots-Tag:noindex
X-PUBLISHED-TTL:PT1H
BEGIN:VTIMEZONE
TZID:Europe/Prague
BEGIN:DAYLIGHT
TZOFFSETFROM:+0100
TZOFFSETTO:+0200
TZNAME:CEST
DTSTART:20240331T010000
END:DAYLIGHT
BEGIN:STANDARD
TZOFFSETFROM:+0200
TZOFFSETTO:+0100
TZNAME:CET
DTSTART:20241027T010000
END:STANDARD
BEGIN:DAYLIGHT
TZOFFSETFROM:+0100
TZOFFSETTO:+0200
TZNAME:CEST
DTSTART:20250330T010000
END:DAYLIGHT
BEGIN:STANDARD
TZOFFSETFROM:+0200
TZOFFSETTO:+0100
TZNAME:CET
DTSTART:20251026T010000
END:STANDARD
BEGIN:DAYLIGHT
TZOFFSETFROM:+0100
TZOFFSETTO:+0200
TZNAME:CEST
DTSTART:20260329T010000
END:DAYLIGHT
BEGIN:STANDARD
TZOFFSETFROM:+0200
TZOFFSETTO:+0100
TZNAME:CET
DTSTART:20261025T010000
END:STANDARD
BEGIN:DAYLIGHT
TZOFFSETFROM:+0100
TZOFFSETTO:+0200
TZNAME:CEST
DTSTART:20270328T010000
END:DAYLIGHT
BEGIN:STANDARD
TZOFFSETFROM:+0200
TZOFFSETTO:+0100
TZNAME:CET
DTSTART:20271031T010000
END:STANDARD
END:VTIMEZONE
BEGIN:VEVENT
DTSTART;TZID=Europe/Prague:20251207T180000
DTEND;TZID=Europe/Prague:20251207T180000
DTSTAMP:20260426T052620
CREATED:20251123T134100Z
LAST-MODIFIED:20251123T134109Z
UID:8504-1765130400-1765130400@www.klaster.cz
SUMMARY:Adventní adorace se zpěvy z Taizé
DESCRIPTION:
URL:https://www.klaster.cz/event/adventni-adorace-se-zpevy-z-taize
LOCATION:Trhové Sviny
END:VEVENT
BEGIN:VEVENT
DTSTART;TZID=Europe/Prague:20251214T170000
DTEND;TZID=Europe/Prague:20251214T170000
DTSTAMP:20260426T052620
CREATED:20251111T191332Z
LAST-MODIFIED:20251111T191524Z
UID:8444-1765731600-1765731600@www.klaster.cz
SUMMARY:Adventní koncert
DESCRIPTION:
URL:https://www.klaster.cz/event/adventni-koncert
LOCATION:Nově Hrady – kostel sv. Petra a Pavla
END:VEVENT
BEGIN:VEVENT
DTSTART;TZID=Europe/Prague:20251219T180000
DTEND;TZID=Europe/Prague:20251219T180000
DTSTAMP:20260426T052620
CREATED:20251205T213521Z
LAST-MODIFIED:20251205T215608Z
UID:8522-1766167200-1766167200@www.klaster.cz
SUMMARY:Česká mše vánoční - J. J. Ryba
DESCRIPTION:
URL:https://www.klaster.cz/event/ceska-mse-vanocni-j-j-ryba
LOCATION:Trhové Sviny – kostel Nanebevzetí Panny Marie
END:VEVENT
BEGIN:VEVENT
DTSTART;TZID=Europe/Prague:20251220T180000
DTEND;TZID=Europe/Prague:20251220T180000
DTSTAMP:20260426T052620
CREATED:20251215T115258Z
LAST-MODIFIED:20251215T115307Z
UID:8560-1766253600-1766253600@www.klaster.cz
SUMMARY:Koncert Cantus firmus
DESCRIPTION:
URL:https://www.klaster.cz/event/koncert-cantus-firmus
LOCATION:Dobrá Voda
END:VEVENT
BEGIN:VEVENT
DTSTART;TZID=Europe/Prague:20251221T170000
DTEND;TZID=Europe/Prague:20251221T170000
DTSTAMP:20260426T052620
CREATED:20251205T220349Z
LAST-MODIFIED:20251205T220355Z
UID:8527-1766336400-1766336400@www.klaster.cz
SUMMARY:Adventní koncert
DESCRIPTION:
URL:https://www.klaster.cz/event/adventni-koncert-2
LOCATION:Olešnice
END:VEVENT
BEGIN:VEVENT
DTSTART;TZID=Europe/Prague:20251224T160000
DTEND;TZID=Europe/Prague:20251224T160000
DTSTAMP:20260426T052620
CREATED:20251214T122143Z
LAST-MODIFIED:20251214T122150Z
UID:8548-1766592000-1766592000@www.klaster.cz
SUMMARY:Vánoční mše svatá pro rodiny s dětmi
DESCRIPTION:
URL:https://www.klaster.cz/event/vanocni-mse-svata-pro-rodiny-s-detmi
LOCATION:Trhové Sviny – kostel Nanebevzetí Panny Marie
END:VEVENT
BEGIN:VEVENT
DTSTART;TZID=Europe/Prague:20251226T170000
DTEND;TZID=Europe/Prague:20251226T170000
DTSTAMP:20260426T052620
CREATED:20251222T210115Z
LAST-MODIFIED:20251222T210123Z
UID:8587-1766768400-1766768400@www.klaster.cz
SUMMARY:Vánoční koncert Žestě 200
DESCRIPTION:
URL:https://www.klaster.cz/event/vanocni-koncert-zeste-200
LOCATION:Trhové Sviny – kostel Nanebevzetí Panny Marie
END:VEVENT
BEGIN:VEVENT
DTSTART;TZID=Europe/Prague:20251227T180000
DTEND;TZID=Europe/Prague:20251227T180000
DTSTAMP:20260426T052620
CREATED:20251222T193836Z
LAST-MODIFIED:20251222T210313Z
UID:8585-1766858400-1766858400@www.klaster.cz
SUMMARY:Vánoční koncert Musica Diversa
DESCRIPTION:
URL:https://www.klaster.cz/event/vanocni-koncert
LOCATION:Dobrá Voda
END:VEVENT
BEGIN:VEVENT
DTSTART;TZID=Europe/Prague:20260110T090000
DTEND;TZID=Europe/Prague:20260110T090000
DTSTAMP:20260426T052620
CREATED:20260103T194910Z
LAST-MODIFIED:20260103T194914Z
UID:8616-1768035600-1768035600@www.klaster.cz
SUMMARY:Tříkrálová sbírka
DESCRIPTION:
URL:https://www.klaster.cz/event/trikralova-sbirka
LOCATION:Nové Hrady
END:VEVENT
BEGIN:VEVENT
DTSTART;TZID=Europe/Prague:20260111T133000
DTEND;TZID=Europe/Prague:20260111T133000
DTSTAMP:20260426T052620
CREATED:20260103T195017Z
LAST-MODIFIED:20260103T195022Z
UID:8618-1768138200-1768138200@www.klaster.cz
SUMMARY:Tříkrálová sbírka
DESCRIPTION:
URL:https://www.klaster.cz/event/trikralova-sbirka-2
LOCATION:Olešnice
END:VEVENT
BEGIN:VEVENT
DTSTART;TZID=Europe/Prague:20260130T200000
DTEND;TZID=Europe/Prague:20260130T200000
DTSTAMP:20260426T052620
CREATED:20251205T214631Z
LAST-MODIFIED:20251205T215501Z
UID:8524-1769803200-1769803200@www.klaster.cz
SUMMARY:Farní ples
DESCRIPTION:
URL:https://www.klaster.cz/event/farni-ples
LOCATION:KD Trhové Sviny
END:VEVENT
BEGIN:VEVENT
DTSTART;TZID=Europe/Prague:20260211T180000
DTEND;TZID=Europe/Prague:20260211T180000
DTSTAMP:20260426T052620
CREATED:20260209T113319Z
LAST-MODIFIED:20260209T113331Z
UID:8665-1770832800-1770832800@www.klaster.cz
SUMMARY:Svátost pomazání nemocných
DESCRIPTION:
URL:https://www.klaster.cz/event/svatost-pomazani-nemocnych
LOCATION:Trhové Sviny – kostel Nanebevzetí Panny Marie
END:VEVENT
BEGIN:VEVENT
DTSTART;TZID=Europe/Prague:20260221T090000
DTEND;TZID=Europe/Prague:20260221T090000
DTSTAMP:20260426T052620
CREATED:20260130T120725Z
LAST-MODIFIED:20260130T120749Z
UID:8649-1771664400-1771664400@www.klaster.cz
SUMMARY:Postní pouť na Dobrou Vodu
DESCRIPTION:
URL:https://www.klaster.cz/event/postni-pout-na-dobrou-vodu
LOCATION:Dobrá Voda
END:VEVENT
BEGIN:VEVENT
DTSTART;TZID=Europe/Prague:20260315T180000
DTEND;TZID=Europe/Prague:20260315T180000
DTSTAMP:20260426T052620
CREATED:20260315T083745Z
LAST-MODIFIED:20260315T084445Z
UID:8853-1773597600-1773597600@www.klaster.cz
SUMMARY:Postní adorace Taizé
DESCRIPTION:
URL:https://www.klaster.cz/event/postni-adorace-taize
LOCATION:Trhové Sviny – kostel Nanebevzetí Panny Marie
END:VEVENT
BEGIN:VEVENT
DTSTART;TZID=Europe/Prague:20260426T150000
DTEND;TZID=Europe/Prague:20260426T150000
DTSTAMP:20260426T052620
CREATED:20250913T084324Z
LAST-MODIFIED:20260411T074542Z
UID:8296-1777215600-1777215600@www.klaster.cz
SUMMARY:Křížová cesta
DESCRIPTION:
URL:https://www.klaster.cz/event/krizova-cesta-4
LOCATION:Svatá Trojice
END:VEVENT
BEGIN:VEVENT
DTSTART;TZID=Europe/Prague:20260501T150000
DTEND;TZID=Europe/Prague:20260501T150000
DTSTAMP:20260426T052620
CREATED:20251111T191149Z
LAST-MODIFIED:20260424T170919Z
UID:8442-1777647600-1777647600@www.klaster.cz
SUMMARY:Duchovní obnova pro mládež
DESCRIPTION:
URL:https://www.klaster.cz/event/setkani-rodin
LOCATION:Nové Hrady – klášter
END:VEVENT
BEGIN:VEVENT
DTSTART;TZID=Europe/Prague:20260502T163000
DTEND;TZID=Europe/Prague:20260502T170000
DTSTAMP:20260426T052620
CREATED:20260411T151953Z
LAST-MODIFIED:20260411T152002Z
UID:8884-1777739400-1777741200@www.klaster.cz
SUMMARY:Pouť ke kapličce u Kostelíka
DESCRIPTION:Mše svatá od 17 hodin
URL:https://www.klaster.cz/event/pout-ke-kaplicce-u-kostelika
LOCATION:Olešnice
END:VEVENT
BEGIN:VEVENT
DTSTART;TZID=Europe/Prague:20260509T163000
DTEND;TZID=Europe/Prague:20260509T163000
DTSTAMP:20260426T052620
CREATED:20260414T095103Z
LAST-MODIFIED:20260414T095318Z
UID:8897-1778344200-1778344200@www.klaster.cz
SUMMARY:Májová pobožnost
DESCRIPTION:
URL:https://www.klaster.cz/event/majova-poboznost
LOCATION:Svatá Trojice
END:VEVENT
BEGIN:VEVENT
DTSTART;TZID=Europe/Prague:20260513T170000
DTEND;TZID=Europe/Prague:20260513T170000
DTSTAMP:20260426T052620
CREATED:20250913T084129Z
LAST-MODIFIED:20260415T121149Z
UID:8294-1778691600-1778691600@www.klaster.cz
SUMMARY:Fatimský den
DESCRIPTION: 
URL:https://www.klaster.cz/event/fatimsky-den-4
LOCATION:Dobrá Voda
END:VEVENT
BEGIN:VEVENT
DTSTART;TZID=Europe/Prague:20260513T190000
DTEND;TZID=Europe/Prague:20260513T190000
DTSTAMP:20260426T052620
CREATED:20260415T121004Z
LAST-MODIFIED:20260415T121011Z
UID:8903-1778698800-1778698800@www.klaster.cz
SUMMARY:Setkání Živého růžence
DESCRIPTION:
URL:https://www.klaster.cz/event/setkani-ziveho-ruzence
LOCATION:Dobrá Voda
END:VEVENT
BEGIN:VEVENT
DTSTART;TZID=Europe/Prague:20260516T163000
DTEND;TZID=Europe/Prague:20260516T163000
DTSTAMP:20260426T052620
CREATED:20260414T095245Z
LAST-MODIFIED:20260414T095250Z
UID:8899-1778949000-1778949000@www.klaster.cz
SUMMARY:Májová pobožnost
DESCRIPTION:
URL:https://www.klaster.cz/event/majova-poboznost-2
LOCATION:Svatá Trojice
END:VEVENT
BEGIN:VEVENT
DTSTART;TZID=Europe/Prague:20260523T163000
DTEND;TZID=Europe/Prague:20260523T163000
DTSTAMP:20260426T052620
CREATED:20260414T095441Z
LAST-MODIFIED:20260414T095451Z
UID:8901-1779553800-1779553800@www.klaster.cz
SUMMARY:Májová pobožnost
DESCRIPTION:
URL:https://www.klaster.cz/event/majova-poboznost-3
LOCATION:Svatá Trojice
END:VEVENT
END:VCALENDAR