BEGIN:VCALENDAR
VERSION:2.0
PRODID:-//Klášter Božího Milosrdenství - ECPv6.15.13//NONSGML v1.0//EN
CALSCALE:GREGORIAN
METHOD:PUBLISH
X-ORIGINAL-URL:https://www.klaster.cz
X-WR-CALDESC:Akce na Klášter Božího Milosrdenství
REFRESH-INTERVAL;VALUE=DURATION:PT1H
X-Robots-Tag:noindex
X-PUBLISHED-TTL:PT1H
BEGIN:VTIMEZONE
TZID:Europe/Prague
BEGIN:DAYLIGHT
TZOFFSETFROM:+0100
TZOFFSETTO:+0200
TZNAME:CEST
DTSTART:20250330T010000
END:DAYLIGHT
BEGIN:STANDARD
TZOFFSETFROM:+0200
TZOFFSETTO:+0100
TZNAME:CET
DTSTART:20251026T010000
END:STANDARD
BEGIN:DAYLIGHT
TZOFFSETFROM:+0100
TZOFFSETTO:+0200
TZNAME:CEST
DTSTART:20260329T010000
END:DAYLIGHT
BEGIN:STANDARD
TZOFFSETFROM:+0200
TZOFFSETTO:+0100
TZNAME:CET
DTSTART:20261025T010000
END:STANDARD
BEGIN:DAYLIGHT
TZOFFSETFROM:+0100
TZOFFSETTO:+0200
TZNAME:CEST
DTSTART:20270328T010000
END:DAYLIGHT
BEGIN:STANDARD
TZOFFSETFROM:+0200
TZOFFSETTO:+0100
TZNAME:CET
DTSTART:20271031T010000
END:STANDARD
END:VTIMEZONE
BEGIN:VEVENT
DTSTART;TZID=Europe/Prague:20260513T170000
DTEND;TZID=Europe/Prague:20260513T170000
DTSTAMP:20260425T232534
CREATED:20250913T084129Z
LAST-MODIFIED:20260415T121149Z
UID:8294-1778691600-1778691600@www.klaster.cz
SUMMARY:Fatimský den
DESCRIPTION: 
URL:https://www.klaster.cz/event/fatimsky-den-4
LOCATION:Dobrá Voda
END:VEVENT
BEGIN:VEVENT
DTSTART;TZID=Europe/Prague:20260513T190000
DTEND;TZID=Europe/Prague:20260513T190000
DTSTAMP:20260425T232534
CREATED:20260415T121004Z
LAST-MODIFIED:20260415T121011Z
UID:8903-1778698800-1778698800@www.klaster.cz
SUMMARY:Setkání Živého růžence
DESCRIPTION:
URL:https://www.klaster.cz/event/setkani-ziveho-ruzence
LOCATION:Dobrá Voda
END:VEVENT
BEGIN:VEVENT
DTSTART;TZID=Europe/Prague:20260516T163000
DTEND;TZID=Europe/Prague:20260516T163000
DTSTAMP:20260425T232534
CREATED:20260414T095245Z
LAST-MODIFIED:20260414T095250Z
UID:8899-1778949000-1778949000@www.klaster.cz
SUMMARY:Májová pobožnost
DESCRIPTION:
URL:https://www.klaster.cz/event/majova-poboznost-2
LOCATION:Svatá Trojice
END:VEVENT
BEGIN:VEVENT
DTSTART;TZID=Europe/Prague:20260523T163000
DTEND;TZID=Europe/Prague:20260523T163000
DTSTAMP:20260425T232534
CREATED:20260414T095441Z
LAST-MODIFIED:20260414T095451Z
UID:8901-1779553800-1779553800@www.klaster.cz
SUMMARY:Májová pobožnost
DESCRIPTION:
URL:https://www.klaster.cz/event/majova-poboznost-3
LOCATION:Svatá Trojice
END:VEVENT
END:VCALENDAR