BEGIN:VCALENDAR
VERSION:2.0
PRODID:-//Klášter Božího Milosrdenství - ECPv6.15.13//NONSGML v1.0//EN
CALSCALE:GREGORIAN
METHOD:PUBLISH
X-WR-CALNAME:Klášter Božího Milosrdenství
X-ORIGINAL-URL:https://www.klaster.cz
X-WR-CALDESC:Akce na Klášter Božího Milosrdenství
REFRESH-INTERVAL;VALUE=DURATION:PT1H
X-Robots-Tag:noindex
X-PUBLISHED-TTL:PT1H
BEGIN:VTIMEZONE
TZID:Europe/Prague
BEGIN:DAYLIGHT
TZOFFSETFROM:+0100
TZOFFSETTO:+0200
TZNAME:CEST
DTSTART:20240331T010000
END:DAYLIGHT
BEGIN:STANDARD
TZOFFSETFROM:+0200
TZOFFSETTO:+0100
TZNAME:CET
DTSTART:20241027T010000
END:STANDARD
BEGIN:DAYLIGHT
TZOFFSETFROM:+0100
TZOFFSETTO:+0200
TZNAME:CEST
DTSTART:20250330T010000
END:DAYLIGHT
BEGIN:STANDARD
TZOFFSETFROM:+0200
TZOFFSETTO:+0100
TZNAME:CET
DTSTART:20251026T010000
END:STANDARD
BEGIN:DAYLIGHT
TZOFFSETFROM:+0100
TZOFFSETTO:+0200
TZNAME:CEST
DTSTART:20260329T010000
END:DAYLIGHT
BEGIN:STANDARD
TZOFFSETFROM:+0200
TZOFFSETTO:+0100
TZNAME:CET
DTSTART:20261025T010000
END:STANDARD
END:VTIMEZONE
BEGIN:VEVENT
DTSTART;TZID=Europe/Prague:20250628T170000
DTEND;TZID=Europe/Prague:20250628T170000
DTSTAMP:20260426T060928
CREATED:20250618T153803Z
LAST-MODIFIED:20250618T153811Z
UID:8108-1751130000-1751130000@www.klaster.cz
SUMMARY:Patrocinium kostela
DESCRIPTION:
URL:https://www.klaster.cz/event/patrocinium-kostela-2
LOCATION:Žumberk
END:VEVENT
BEGIN:VEVENT
DTSTART;TZID=Europe/Prague:20250622T233000
DTEND;TZID=Europe/Prague:20250622T233000
DTSTAMP:20260426T060928
CREATED:20250523T101125Z
LAST-MODIFIED:20250524T102444Z
UID:7898-1750635000-1750635000@www.klaster.cz
SUMMARY:Uzávěrka přihlášek Šumava 2025
DESCRIPTION:
URL:https://www.klaster.cz/event/uzaverka-prihlasek-sumava-2025
END:VEVENT
BEGIN:VEVENT
DTSTART;TZID=Europe/Prague:20250621T163000
DTEND;TZID=Europe/Prague:20250621T163000
DTSTAMP:20260426T060928
CREATED:20250614T171744Z
LAST-MODIFIED:20250614T171753Z
UID:8069-1750523400-1750523400@www.klaster.cz
SUMMARY:Poutní mše svatá
DESCRIPTION:
URL:https://www.klaster.cz/event/poutni-mse-svata-3
LOCATION:Lhotka
END:VEVENT
BEGIN:VEVENT
DTSTART;TZID=Europe/Prague:20250619T170000
DTEND;TZID=Europe/Prague:20250619T170000
DTSTAMP:20260426T060928
CREATED:20250616T063300Z
LAST-MODIFIED:20250616T063312Z
UID:8075-1750352400-1750352400@www.klaster.cz
SUMMARY:Slavnost Těla a Krve Páně
DESCRIPTION:
URL:https://www.klaster.cz/event/slavnost-tela-a-krve-pane
LOCATION:Nové Hrady
END:VEVENT
BEGIN:VEVENT
DTSTART;TZID=Europe/Prague:20250615T103000
DTEND;TZID=Europe/Prague:20250615T103000
DTSTAMP:20260426T060928
CREATED:20250526T201932Z
LAST-MODIFIED:20250526T201956Z
UID:7940-1749983400-1749983400@www.klaster.cz
SUMMARY:Poutní mše svatá
DESCRIPTION:
URL:https://www.klaster.cz/event/poutni-mse-svata-2
LOCATION:Svatá Trojice
END:VEVENT
BEGIN:VEVENT
DTSTART;TZID=Europe/Prague:20250614T100000
DTEND;TZID=Europe/Prague:20250614T100000
DTSTAMP:20260426T060928
CREATED:20250604T044916Z
LAST-MODIFIED:20250604T044924Z
UID:8003-1749895200-1749895200@www.klaster.cz
SUMMARY:Diecézní pouť rodin
DESCRIPTION:
URL:https://www.klaster.cz/event/diecezni-pout-rodin
LOCATION:Písek
END:VEVENT
BEGIN:VEVENT
DTSTART;TZID=Europe/Prague:20250612T190000
DTEND;TZID=Europe/Prague:20250612T190000
DTSTAMP:20260426T060928
CREATED:20250607T174301Z
LAST-MODIFIED:20250607T174708Z
UID:8047-1749754800-1749754800@www.klaster.cz
SUMMARY:Koncert Georgia Boy Choir
DESCRIPTION:
URL:https://www.klaster.cz/event/koncert-georgia-boy-choir
LOCATION:Trhové Sviny – kostel Nanebevzetí Panny Marie
END:VEVENT
BEGIN:VEVENT
DTSTART;TZID=Europe/Prague:20250608T080000
DTEND;TZID=Europe/Prague:20250608T080000
DTSTAMP:20260426T060928
CREATED:20250602T102718Z
LAST-MODIFIED:20250602T102752Z
UID:7994-1749369600-1749369600@www.klaster.cz
SUMMARY:Svatodušní pouť
DESCRIPTION:Mše svaté od 8:00 a od 11:00 hodin (pouť borovanské farnosti)
URL:https://www.klaster.cz/event/svatodusni-pout
LOCATION:Dobrá Voda
END:VEVENT
BEGIN:VEVENT
DTSTART;TZID=Europe/Prague:20250607T083000
DTEND;TZID=Europe/Prague:20250607T083000
DTSTAMP:20260426T060928
CREATED:20250525T173603Z
LAST-MODIFIED:20250525T173609Z
UID:7934-1749285000-1749285000@www.klaster.cz
SUMMARY:První sobota v měsíci
DESCRIPTION:
URL:https://www.klaster.cz/event/prvni-sobota-v-mesici
LOCATION:Dobrá Voda
END:VEVENT
BEGIN:VEVENT
DTSTART;TZID=Europe/Prague:20250601T150000
DTEND;TZID=Europe/Prague:20250601T150000
DTSTAMP:20260426T060928
CREATED:20250525T172757Z
LAST-MODIFIED:20250525T173021Z
UID:7928-1748790000-1748790000@www.klaster.cz
SUMMARY:Mše svatá v kapli u Zaječího pramene
DESCRIPTION:
URL:https://www.klaster.cz/event/mse-svata-v-kapli-u-zajeciho-pramene
LOCATION:Zaječí pramen u Kamenné
END:VEVENT
BEGIN:VEVENT
DTSTART;TZID=Europe/Prague:20250601T110000
DTEND;TZID=Europe/Prague:20250601T110000
DTSTAMP:20260426T060928
CREATED:20250525T173229Z
LAST-MODIFIED:20250525T173238Z
UID:7931-1748775600-1748775600@www.klaster.cz
SUMMARY:Poutní mše svatá
DESCRIPTION:
URL:https://www.klaster.cz/event/poutni-mse-svata
LOCATION:Rejta
END:VEVENT
END:VCALENDAR